BEGIN:VCALENDAR
VERSION:2.0
PRODID:-//ChamberMaster//Event Calendar 2.0//EN
METHOD:PUBLISH
X-PUBLISHED-TTL:P3D
REFRESH-INTERVAL:P3D
CALSCALE:GREGORIAN
BEGIN:VEVENT
DTSTART:20260515T133000Z
DTEND:20260515T150000Z
X-MICROSOFT-CDO-ALLDAYEVENT:FALSE
SUMMARY:Breakfast with Hon. Steven MacKinnon: Building Canada's Export Future
DESCRIPTION:Join the Saskatchewan Chamber of Commerce for a breakfast keynote and fireside chat with the Honourable Steven MacKinnon\, Minister of Transport and Leader of the Government in the House of Commons. The event\, 'Building Canada's Export Future: Trade\, Infrastructure & What's Next\,' is presented by Canpotex."\n\n\n\nCanada's ability to move goods reliably and competitively to global markets has never been more critical. Federal investment in trade corridors\, port capacity\, freight networks\, and rail infrastructure is accelerating\, and the decisions being made now will shape Western Canada's economic position for decades.\n\nSaskatchewan sits at the center of this conversation. The Food\, Fuel & Fertilizer Global Summit this April made clear that export infrastructure and trade corridor investment are among the most pressing issues facing our province's export industries. This breakfast brings the minister responsible for those priorities directly into that conversation.\n\nMinister MacKinnon will join us for a fireside chat on how federal supply chain priorities connect to our province's export reality\, and what it takes to keep Canada competitive on the world stage.\n\nThis is a timely opportunity for business leaders\, exporters\, and logistics and transportation professionals to engage directly with the minister responsible for making it happen.
X-ALT-DESC;FMTTYPE=text/html:<p>Join the Saskatchewan Chamber of Commerce for a breakfast keynote and fireside chat with the Honourable Steven MacKinnon\, Minister of Transport and Leader of the Government in the House of Commons. The event\,&nbsp\;<em>&#39\;Building Canada&#39\;s Export Future: Trade\, Infrastructure &amp\; What&#39\;s Next\,&#39\;</em> is presented by Canpotex.&quot\;<br />\n<br />\nCanada&#39\;s ability to move goods reliably and competitively to global markets has never been more critical. Federal investment in trade corridors\, port capacity\, freight networks\, and rail infrastructure is accelerating\, and the decisions being made now will shape Western Canada&#39\;s economic position for decades.</p>\n\n<p>Saskatchewan sits at the center of this conversation. The Food\, Fuel &amp\; Fertilizer Global Summit this April made clear that export infrastructure and trade corridor investment are among the most pressing issues facing our province&#39\;s export industries. This breakfast brings the minister responsible for those priorities directly into that conversation.</p>\n\n<p>Minister MacKinnon will join us for a fireside chat on how federal supply chain priorities connect to our province&#39\;s export reality\, and what it takes to keep Canada competitive on the world stage.</p>\n\n<p>This is a timely opportunity for business leaders\, exporters\, and logistics and transportation professionals to engage directly with the minister responsible for making it happen.</p>\n
LOCATION:Delta Hotels Saskatoon Downtown 405 20th St E\, Saskatoon\, SK
UID:e.779.950
SEQUENCE:3
DTSTAMP:20260424T232656Z
URL:https://scc.bravotango.ca/events/details/breakfast-with-hon-steven-mackinnon-building-canada-s-export-future-950
END:VEVENT

END:VCALENDAR
